Workbook

Sheet Berechnung
B9: Fahrzeug konventionell | H9: Emissionsfreies Fahrzeug
A10: Fahrzeug-Nr. | B10: Fahrzeug | C10: Kraftstoff | D10: Laufleistung km pro Jahr | E10: Durchschnittlicher Verbrauch Liter pro 100 km | F10: Gesamtverbrauch Liter pro Jahr | G10: CO₂-Äquivalente inkl. Vorkette kg pro Jahr | H10: Energieträger Neufahrzeug | I10: Durchschnittlicher Verbrauch kWh/100 km | J10: Gesamtverbrauch kWh pro Jahr | K10: CO₂-Äquivalente inkl. Vorkette kg pro Jahr | L10: CO₂-Einsparung kg pro Jahr
A11: 1. | B11: Sonderfahrzeug (Typ)* | C11: Diesel | D11: 10000 | E11: 14 | F11: =IF(OR(D11="",E11=""),0,D11*E11/100) -> 1400 | G11: =IF(C11="","",IFERROR(VLOOKUP(C11,Grunddaten!$A$3:$B$4,2,FALSE)*F11,"")) -> 4760 | H11: Ökostrom (marktbezogen) | I11: 25 | J11: =IF(OR(D11="",I11=""),0,D11*I11/100) -> 2500 | K11: =IF(H11="","",IFERROR(VLOOKUP(H11,Grunddaten!$A$9:$B$10,2,FALSE)*J11,"")) -> 100 | L11: =IF(OR(G11="",K11=""),"",G11-K11) -> 4660
A12: 2. | B12: Servicefahrzeug (Typ)* | C12: Benzin | D12: 13000 | E12: 7 | F12: =IF(OR(D12="",E12=""),0,D12*E12/100) -> 910 | G12: =IF(C12="","",IFERROR(VLOOKUP(C12,Grunddaten!$A$3:$B$4,2,FALSE)*F12,"")) -> 2875.6 | H12: Strommix DE (2025) | I12: 15 | J12: =IF(OR(D12="",I12=""),0,D12*I12/100) -> 1950 | K12: =IF(H12="","",IFERROR(VLOOKUP(H12,Grunddaten!$A$9:$B$10,2,FALSE)*J12,"")) -> 670.8 | L12: =IF(OR(G12="",K12=""),"",G12-K12) -> 2204.8
A13: 3. | B13: Umrüstfahrzeug (Typ)* | C13: Diesel | D13: 5000 | E13: 15 | F13: =IF(OR(D13="",E13=""),0,D13*E13/100) -> 750 | G13: =IF(C13="","",IFERROR(VLOOKUP(C13,Grunddaten!$A$3:$B$4,2,FALSE)*F13,"")) -> 2550 | H13: Ökostrom (marktbezogen) | I13: 25 | J13: =IF(OR(D13="",I13=""),0,D13*I13/100) -> 1250 | K13: =IF(H13="","",IFERROR(VLOOKUP(H13,Grunddaten!$A$9:$B$10,2,FALSE)*J13,"")) -> 50 | L13: =IF(OR(G13="",K13=""),"",G13-K13) -> 2500
A14: 4. | F14: =IF(OR(D14="",E14=""),0,D14*E14/100) -> 0 | G14: =IF(C14="","",IFERROR(VLOOKUP(C14,Grunddaten!$A$3:$B$4,2,FALSE)*F14,""))
A15: 5. | F15: =IF(OR(D15="",E15=""),0,D15*E15/100) -> 0 | G15: =IF(C15="","",IFERROR(VLOOKUP(C15,Grunddaten!$A$3:$B$4,2,FALSE)*F15,""))
B16: Ergebnis | D16: =SUM(D11:D15) -> 28000 | G16: =SUM(G11:G15) -> 10185.6 | K16: =SUM(K11:K15) -> 820.8 | L16: =SUM(L11:L15) -> 9364.8
B19: *Die Eintragungen dienen als Beispiel und sind zu überschreiben bzw. zu löschen
A22: Fahrzeug-Nr. | B22: Berechnung der CO2-Einsparungsquote | F22: Hinweise zur Eingabe
A23: 1. | B23: Preis E-Fahrzeug / Umrüstungskosten (EUR) | D23: 50000 | F23: Fahrzeugdaten: Pro Fahrzeug eine Zeile verwenden. Die Jahresfahrleistung in Spalte D gilt für das konventionelle Vergleichsfahrzeug und das emissionsfreie Fahrzeug gleichermaßen. Planen Sie mehr als 5 Fahrzeuge anzuschaffen und/oder umzurüsten, dann wenden Sie sich bitte direkt an die TAB: energie-verkehr@aufbaubank.de Reihenfolge: Preis/Umrüstungskosten/Vergleichspreis in derselben Reihenfolge wie die Fahrzeuge in den Zeilen 11 bis 15 erfassen.
A24: 2. | B24: Preis E-Fahrzeug / Umrüstungskosten (EUR) | D24: 30000
A25: 3. | B25: Preis E-Fahrzeug / Umrüstungskosten (EUR) | D25: 50000 | F25: Sonderfahrzeuge: Verbrauchswerte einschließlich Nebenaggregaten, Leerlauf-, Stand- und Einsatzzeiten als realistischen Jahresdurchschnitt ansetzen.
A26: 4. | B26: Preis E-Fahrzeug / Umrüstungskosten (EUR)
A27: 5. | B27: Preis E-Fahrzeug / Umrüstungskosten (EUR) | F27: Erwerb: Preis des emissionsfreien Fahrzeugs und Preis eines vergleichbaren konventionellen Fahrzeugs eintragen. Förderfähig ist die Preisdifferenz.
B28: Gesamtausgaben E-Fahrzeuge / Umrüstung (EUR) | D28: =SUM(D23:D27) -> 130000
A29: 1. | B29: Vergleichspreis konventionell / bei Umrüstung 0 EUR | D29: 25000 | F29: Umrüstung: Umrüstungskosten unter „Preis E-Fahrzeug / Umrüstungskosten“ eintragen und den konventionellen Vergleichspreis mit 0 EUR ansetzen.
A30: 2. | B30: Vergleichspreis konventionell / bei Umrüstung 0 EUR | D30: 15000
A31: 3. | B31: Vergleichspreis konventionell / bei Umrüstung 0 EUR | F31: Energieträger Neufahrzeug: Ökostrom nur wählen, wenn dieser nachgewiesen werden kann, also ein Ökostromvertrag vorliegt. Eigene Solaranlagen alleine gelten nicht als Ökostrombezug.
A32: 4. | B32: Vergleichspreis konventionell / bei Umrüstung 0 EUR
A33: 5. | B33: Vergleichspreis konventionell / bei Umrüstung 0 EUR
B34: Summe Vergleichsausgaben konventionell (EUR) | D34: =SUM(D29:D33) -> 40000
B36: Zuwendungsfähige Ausgaben (EUR) Erwerb: Preisdifferenz | Umrüstung: Umrüstungskosten | D36: =D28-D34 -> 90000
B38: Beantragter Fördersatz: | D38: 0.5
B39: Beantragter Förderbetrag gemäß Förderrichtlinie (EUR) | D39: =D36*D38 -> 45000
B40: Jährliche CO₂-Einsparung (kg CO₂e/Jahr) | D40: =L16 -> 9364.8
B41: CO2-Einsparungsquote (kg CO₂e/Jahr je beantragtem Förder-Euro) | D41: =IF(D39>0,D40/D39,0) -> 0.20810667
D42: Je höher die Förderintensität, desto höher die Priorität in der Rangfolge. Dadurch können auch kleine, besonders kosteneffiziente Maßnahmen erfolgreich sein.

Sheet Grunddaten
A2: Kraftstoffart | B2: kg CO₂e / Liter | C2: Energieträger-Typ | D2: Typische Einordnung
A3: Diesel | B3: 3.4 | C3: fossil | D3: Referenz Diesel
A4: Benzin | B4: 3.16 | C4: fossil | D4: Referenz Otto
A8: Kraftstoffart | B8: kg CO₂e / kWh | C8: Energieträger-Typ | D8: Typische Einordnung
A9: Strommix DE (2025) | B9: 0.344 | C9: fossil + EE | D9: verbrauchsbasiert
A10: Ökostrom (marktbezogen) | B10: 0.04 | C10: erneuerbar | D10: gem. Herkunftsnachweis
A15: Emissionsfaktoren mit Bezugsjahr 2024; aktuelle UBA-Liste Version 2.1 vom 28.02.2026.
A16: Direkt verwendbar für Verbrauchsrechnungen:
A17: Verbrennermotorfahrzeug: kg CO₂e/100 km=l/100 km×kg CO₂e/l
A18: Elektrofahrzeug: kg CO₂e/100 km=kWh/100 km×kg CO₂e/kWh
A20: Quellen:
A21: Benzin: 3,16 kg CO₂e/l inkl. Vorkette. Quelle: Umweltbundesamt, Liste mit Emissionsfaktoren für die Treibhausgasbilanzierung von Organisationen, Version 2.1; Umrechnung auf Liter mit EBeV 2030 (0,755 kg/l; 43,5 MJ/kg). https://www.umweltbundesamt.de/themen/wirtschaft-konsum/wirtschaft-umwelt/umwelt-energiemanagement/emissionsfaktoren-zur-treibhausgasbilanzierung-von
A24: Erstellt unter Zuhilfenahme von KI

Sheet Grunddaten alt
A2: Kraftstoffart | B2: kg CO₂e / Liter bzw. kg CO₂e / kWh | C2: Energieträger-Typ | D2: Typische Einordnung
A3: Strommix DE (2025) | B3: 0.344 | C3: fossil + EE | D3: verbrauchsbasiert
A4: Ökostrom (marktbezogen) | B4: 0.04 | C4: erneuerbar | D4: gem. Herkunftsnachweise
A5: Wasserstoff (grau) | B5: 0.27 | C5: fossil | D5: Dampfreformierung
A6: Wasserstoff (blau) | B6: 0.13 | C6: fossil + CCS | D6: mit Restemissionen
A7: Wasserstoff (grün) | B7: 0.035 | C7: strombasierend | D7: EE‑Strom, Elektrolyse
A8: Benzin E5 | B8: 2.98 | C8: fossil | D8: Referenz Otto
A9: Benzin E10 | B9: 2.83 | C9: fossil + biogen | D9: 5–6 % Reduktion ggü. E5
A10: Diesel | B10: 3.4 | C10: fossil | D10: Referenz Diesel
A11: HVO 100 | B11: 0.69 | C11: erneuerbar | D11: stark rohstoffabhängig (abfallbasiert)
A12: Biodiesel (FAME, Abfall) | B12: 1.65 | C12: erneuerbar | D12: höher als HVO
A13: E‑Fuel (synthetisch, fossiler Strom) | B13: 4 | C13: strombasierend | D13: nicht klimavorteilhaft
A14: E‑Fuel (synthetisch, EE‑Strom) | B14: 0.9 | C14: strombasierend | D14: sehr hoher Strombedarf (16-27kWh/Liter)
A16: Werte in Zusammenarbeit mit KI erstellt für alle Bezugsgrößen mit dem Stand 2024/2026
A17: HVO abfallbasierend - biogenen Rest- und Abfallstoffen statt aus frischen Pflanzenölen oder fossilem Erdöl hergestellt
A18: Direkt verwendbar für Verbrauchsrechnungen:
A19: ICE: kg CO₂e/100 km=l/100 km×kg CO₂e/l
A20: BEV: kg CO₂e/100 km=kWh/100 km×kg CO₂e/kWh
A22: Quellen:
A23: Grundlage CO₂‑Äquivalente inkl. Vorkette (Well‑to‑Wheel) nach UBA/GEMIS‑Systematik.
